BEGIN:VCALENDAR
VERSION:2.0
PRODID:-//Hillcrest Ward  ~Yuba City, CA - ECPv6.15.11//NONSGML v1.0//EN
CALSCALE:GREGORIAN
METHOD:PUBLISH
X-ORIGINAL-URL:http://www.barrowfamily.org/BF
X-WR-CALDESC:Events for Hillcrest Ward  ~Yuba City, CA
REFRESH-INTERVAL;VALUE=DURATION:PT1H
X-Robots-Tag:noindex
X-PUBLISHED-TTL:PT1H
BEGIN:VTIMEZONE
TZID:America/Los_Angeles
BEGIN:DAYLIGHT
TZOFFSETFROM:-0800
TZOFFSETTO:-0700
TZNAME:PDT
DTSTART:20220313T100000
END:DAYLIGHT
BEGIN:STANDARD
TZOFFSETFROM:-0700
TZOFFSETTO:-0800
TZNAME:PST
DTSTART:20221106T090000
END:STANDARD
BEGIN:DAYLIGHT
TZOFFSETFROM:-0800
TZOFFSETTO:-0700
TZNAME:PDT
DTSTART:20230312T100000
END:DAYLIGHT
BEGIN:STANDARD
TZOFFSETFROM:-0700
TZOFFSETTO:-0800
TZNAME:PST
DTSTART:20231105T090000
END:STANDARD
BEGIN:DAYLIGHT
TZOFFSETFROM:-0800
TZOFFSETTO:-0700
TZNAME:PDT
DTSTART:20240310T100000
END:DAYLIGHT
BEGIN:STANDARD
TZOFFSETFROM:-0700
TZOFFSETTO:-0800
TZNAME:PST
DTSTART:20241103T090000
END:STANDARD
END:VTIMEZONE
BEGIN:VEVENT
DTSTART;TZID=America/Los_Angeles:20230325T100000
DTEND;TZID=America/Los_Angeles:20230325T130000
DTSTAMP:20260423T084540
CREATED:20230204T220028Z
LAST-MODIFIED:20230204T220428Z
UID:1082-1679738400-1679749200@www.barrowfamily.org
SUMMARY:Stake Relief Society Womens Conference
DESCRIPTION:Guest Speaker: Becky Weaver\nCome learn and be strengthened as women of faith and sisters in the gospel of Jesus Christ. Lunch will be provided following conference.
URL:http://www.barrowfamily.org/BF/calender/stake-relief-society-womens-conference/
LOCATION:TBA
CATEGORIES:Relief Society,Stake Relief Society
ATTACH;FMTTYPE=image/jpeg:http://www.barrowfamily.org/BF/wp-content/uploads/2023/02/30D3C12A-37D7-4D63-BCE9-66F518F32C51.jpeg
END:VEVENT
BEGIN:VEVENT
DTSTART;TZID=America/Los_Angeles:20230218T090000
DTEND;TZID=America/Los_Angeles:20230218T100000
DTSTAMP:20260423T084540
CREATED:20230209T071616Z
LAST-MODIFIED:20230209T071617Z
UID:1173-1676710800-1676714400@www.barrowfamily.org
SUMMARY:Yoga
DESCRIPTION:hillcrest ward yoga class\n\n\n\nStrengthen core muscles and gain flexibility
URL:http://www.barrowfamily.org/BF/calender/yoga/
LOCATION:Clark Street Chapel\, 540 Clark Ave\, Yuba City\, California\, 95991\, United States
CATEGORIES:Relief Society,Yoga
ATTACH;FMTTYPE=image/jpeg:http://www.barrowfamily.org/BF/wp-content/uploads/2022/11/YOGA.jpg
END:VEVENT
BEGIN:VEVENT
DTSTART;TZID=America/Los_Angeles:20230215T183000
DTEND;TZID=America/Los_Angeles:20230215T200000
DTSTAMP:20260423T084540
CREATED:20230205T102036Z
LAST-MODIFIED:20230206T054813Z
UID:1092-1676485800-1676491200@www.barrowfamily.org
SUMMARY:RELIEF SOCIETY MINISTERING ACTIVITY
DESCRIPTION:Join us for a night of reprieve and sisterhood as we share in how we can better minister to one another as the Savior did. Bring a snack item to share\, come ready for visiting and interactive activities.
URL:http://www.barrowfamily.org/BF/calender/relief-society-ministering-activity/
LOCATION:La Serena Apartments Club House\, 808 Clark Avenue\, Yuba City\, CA\, 95991\, United States
CATEGORIES:Activity,Relief Society
ATTACH;FMTTYPE=image/jpeg:http://www.barrowfamily.org/BF/wp-content/uploads/2023/02/720E3875-BE1F-40A9-A713-2265F186F8A0.jpeg
END:VEVENT
BEGIN:VEVENT
DTSTART;TZID=America/Los_Angeles:20230211T190000
DTEND;TZID=America/Los_Angeles:20230211T223000
DTSTAMP:20260423T084540
CREATED:20230210T015834Z
LAST-MODIFIED:20230210T015835Z
UID:1178-1676142000-1676154600@www.barrowfamily.org
SUMMARY:Stake Valentine Youth Dance
DESCRIPTION:All youth turning 14 and up in 2023 are invited to attend the Valentine dance!
URL:http://www.barrowfamily.org/BF/calender/stake-valentine-youth-dance/
LOCATION:Church Building\, 2390 Monte Vista Ave\, Oroville\, 95966\, United States
CATEGORIES:Stake,Youth
ATTACH;FMTTYPE=image/jpeg:http://www.barrowfamily.org/BF/wp-content/uploads/2023/02/EF2B3825-F7F2-4161-8A89-06E7B52DB2E8.jpeg
END:VEVENT
BEGIN:VEVENT
DTSTART;TZID=America/Los_Angeles:20230211T090000
DTEND;TZID=America/Los_Angeles:20230211T150000
DTSTAMP:20260423T084540
CREATED:20230206T180000Z
LAST-MODIFIED:20230206T074238Z
UID:1150-1676106000-1676127600@www.barrowfamily.org
SUMMARY:YM/YW Snow Trip
DESCRIPTION:Youth snow trip to LaPorte. Dress warm\, meet at 9:00 AM\, Clark St Chapel. Parents need to sign permission slips at drop off.
URL:http://www.barrowfamily.org/BF/calender/ym-yw-snow-trip/
LOCATION:Clark Street Chapel\, 540 Clark Ave\, Yuba City\, California\, 95991\, United States
CATEGORIES:Young Men,Young Women,Youth
ATTACH;FMTTYPE=image/jpeg:http://www.barrowfamily.org/BF/wp-content/uploads/2023/02/0A3ACA86-2B90-4F16-8D44-329265183E13.jpeg
END:VEVENT
BEGIN:VEVENT
DTSTART;TZID=America/Los_Angeles:20230211T090000
DTEND;TZID=America/Los_Angeles:20230211T100000
DTSTAMP:20260423T084540
CREATED:20230206T180000Z
LAST-MODIFIED:20230206T064604Z
UID:1144-1676106000-1676109600@www.barrowfamily.org
SUMMARY:Yoga Class
DESCRIPTION:hillcrest ward yoga class\n\n\n\n\nCome gain flexibility and strength Saturday at 9:00-10:00 AM
URL:http://www.barrowfamily.org/BF/calender/__trashed/
LOCATION:Primary Room Clark Street Chapel\, 520 Clark Ave\, Yuba City\, California\, 95991\, United States
CATEGORIES:Relief Society,Yoga
ATTACH;FMTTYPE=image/jpeg:http://www.barrowfamily.org/BF/wp-content/uploads/2022/11/YOGA.jpg
END:VEVENT
BEGIN:VEVENT
DTSTART;TZID=America/Los_Angeles:20230204T090000
DTEND;TZID=America/Los_Angeles:20230204T100000
DTSTAMP:20260423T084540
CREATED:20230203T103022Z
LAST-MODIFIED:20230206T062758Z
UID:1042-1675501200-1675504800@www.barrowfamily.org
SUMMARY:Yoga Class
DESCRIPTION:Join us in building strength and flexibility \nEvery Saturday\n9am\nPrimary Room \nInstructor: Melissa Slocum
URL:http://www.barrowfamily.org/BF/calender/yoga-class/
CATEGORIES:Relief Society,Yoga
ATTACH;FMTTYPE=image/jpeg:http://www.barrowfamily.org/BF/wp-content/uploads/2022/11/YOGA.jpg
END:VEVENT
END:VCALENDAR